BEGIN:VCALENDAR
VERSION:2.0
PRODID:-//Parque Científico Tecnológico e Industrial de Holguín - ECPv6.9.1//NONSGML v1.0//EN
CALSCALE:GREGORIAN
METHOD:PUBLISH
X-WR-CALNAME:Parque Científico Tecnológico e Industrial de Holguín
X-ORIGINAL-URL:https://www.nucl3um.cu
X-WR-CALDESC:Events for Parque Científico Tecnológico e Industrial de Holguín
REFRESH-INTERVAL;VALUE=DURATION:PT1H
X-Robots-Tag:noindex
X-PUBLISHED-TTL:PT1H
BEGIN:VTIMEZONE
TZID:Europe/Madrid
BEGIN:DAYLIGHT
TZOFFSETFROM:+0100
TZOFFSETTO:+0200
TZNAME:CEST
DTSTART:20250330T010000
END:DAYLIGHT
BEGIN:STANDARD
TZOFFSETFROM:+0200
TZOFFSETTO:+0100
TZNAME:CET
DTSTART:20251026T010000
END:STANDARD
END:VTIMEZONE
BEGIN:VEVENT
DTSTART;TZID=Europe/Madrid:20250128T140000
DTEND;TZID=Europe/Madrid:20250128T170000
DTSTAMP:20260420T171742
CREATED:20250127T152330Z
LAST-MODIFIED:20250127T152330Z
UID:10000001-1738072800-1738083600@www.nucl3um.cu
SUMMARY:Encuentro con cámara de comercio
DESCRIPTION:
URL:https://www.nucl3um.cu/eventos/encuentro-con-camara-de-comercio/
END:VEVENT
END:VCALENDAR